BEGIN:VCALENDAR
VERSION:2.0
PRODID:-//Portal Pará Negócios - ECPv6.15.16//NONSGML v1.0//EN
CALSCALE:GREGORIAN
METHOD:PUBLISH
X-ORIGINAL-URL:https://paranegocios.com.br
X-WR-CALDESC:Eventos para Portal Pará Negócios
REFRESH-INTERVAL;VALUE=DURATION:PT1H
X-Robots-Tag:noindex
X-PUBLISHED-TTL:PT1H
BEGIN:VTIMEZONE
TZID:UTC
BEGIN:STANDARD
TZOFFSETFROM:+0000
TZOFFSETTO:+0000
TZNAME:UTC
DTSTART:20240101T000000
END:STANDARD
END:VTIMEZONE
BEGIN:VEVENT
DTSTART;TZID=UTC:20250626T080000
DTEND;TZID=UTC:20250626T080000
DTSTAMP:20260421T171431
CREATED:20250618T215805Z
LAST-MODIFIED:20250618T220125Z
UID:3903-1750924800-1750924800@paranegocios.com.br
SUMMARY:MENTALIDADE EMPREENDEDORA DELAS - UM CAFÉ QUE VAI MUDAR SEU JOGO! ☕
DESCRIPTION:Chamando TODOS os empreendedores e empresários que querem: \n✅ Inspiração com cases reais de sucesso\n✅ Networking de alto nível em um café descontraído\n✅ Conhecimento estratégico para alavancar seus negócios \n  \n26/06 | ⏰ 08h | Coffee Lovers Belém (Parque Shopping) \n  \nCOM CONVIDADAS ESPECIAIS: \n✨ Myrle Braun – Consultora empresarial com 4 MBAs e atuação nacional\n✨ Joana Massari – Engenheira ambiental\, consultora Lixo Zero\, diretora de empresas sustentáveis e líder em ações de impacto.\n O QUE VOCÊ VAI LEVAR DESSE EVENTO? \n\nInsights valiosos de mulheres que transformaram desafios em resultados;\nConexões que podem virar parcerias de sucesso;\nUm café da manhã energizante para começar seu dia com gás!\n\n INSCRIÇÕES: (91) 99290-9696 (vagas limitadas!) \nAcompanhe: @connectaempreendedor
URL:https://paranegocios.com.br/agenda/mentalidade-empreendedora-delas-um-cafe-que-vai-mudar-seu-jogo-%e2%98%95/
LOCATION:Coffee Lovers Belém (Parque Shopping)\, Rod. Augusto Montenegro\, 4300\, Belém\, Pará\, 66635-110\, Brazil
CATEGORIES:Calendário
ATTACH;FMTTYPE=image/jpeg:https://paranegocios.com.br/wp-content/uploads/2025/06/connecta.jpeg
ORGANIZER;CN="CONNECTA EMPREENDEDOR":MAILTO:contato@co​nnectaempreendedor.com.br
END:VEVENT
BEGIN:VEVENT
DTSTART;VALUE=DATE:20250625
DTEND;VALUE=DATE:20250628
DTSTAMP:20260421T171431
CREATED:20250623T185715Z
LAST-MODIFIED:20250623T185715Z
UID:3951-1750809600-1751068799@paranegocios.com.br
SUMMARY:EMBRA 2025 - XXIX Encontro Brasileiro de Administração
DESCRIPTION:O maior evento de administração do Brasil está chegando! \nO XXIX Encontro Brasileiro de Administração (ENBRA) acontecerá nos dias 25\, 26 e 27 de junho\, no Hangar – Centro de Convenções da Amazônia\, em Belém/PA. ️✨ \nSerão três dias de muito conhecimento\, networking e inovação para os profissionais da área! \nLocal: Hangar\, Belém/PA\nData: 25 a 27 de junho\nRealização: Sistema CFA/CRA \nMarque na agenda e prepare-se para essa experiência única!
URL:https://paranegocios.com.br/agenda/embra-2025-xxix-encontro-brasileiro-de-administracao/
LOCATION:Hangar – Centro de Convenções da Amazônia\, Av. Dr. Freitas\, s/n - Marco\, Belém\, Pará\, 66613-902\, Brazil
CATEGORIES:Calendário
ATTACH;FMTTYPE=image/png:https://paranegocios.com.br/wp-content/uploads/2025/06/Captura-de-tela-2025-06-23-154720.png
ORGANIZER;CN="CRA-PA":MAILTO:crapa@crapa.org.br
END:VEVENT
BEGIN:VEVENT
DTSTART;TZID=UTC:20250603T120000
DTEND;TZID=UTC:20250603T120000
DTSTAMP:20260421T171431
CREATED:20250601T125215Z
LAST-MODIFIED:20250601T125215Z
UID:3351-1748952000-1748952000@paranegocios.com.br
SUMMARY:Almoço de Negócios com Otávio de Oliveira\, Tamires Ishimori e Alexandre Modesto
DESCRIPTION:No próximo Almoço de Negócios\, vamos aprender como crescer além do óbvio com Otávio de Oliveira\, Alexandre Modesto e Tamires Ishimori! Eles vão compartilhar o que os empresários estão fazendo de diferente para se destacar e faturar mais no mercado. \nOtávio de Oliveira – Empreendedor de negócios familiares e criador do método LIVRE\nAlexandre Modesto – Fundador do Portal Pará Negócios e líder da Growth Jurídico\nTamires Ishimori – Empreendedora e Estrategista de Marketing\nData: 03/06 ⏰ Horário: 12h \nLocal: Wine Experience – Av. Alcindo Cacela\, 1848 \nInscreva-se agora e não perca a chance de aprender estratégias inovadoras e ampliar sua rede de contatos!
URL:https://paranegocios.com.br/agenda/almoco-de-negocios-conjove/
LOCATION:Wine Experience\, Av. Alcindo Cacela\, 1848\, Belém\, PA\, 66040-020\, Brazil
ATTACH;FMTTYPE=image/jpeg:https://paranegocios.com.br/wp-content/uploads/2025/06/Screenshot_20250531_201044_Instagram.jpg
END:VEVENT
BEGIN:VEVENT
DTSTART;TZID=UTC:20250531T183000
DTEND;TZID=UTC:20250531T183000
DTSTAMP:20260421T171431
CREATED:20250522T171243Z
LAST-MODIFIED:20250522T171243Z
UID:3229-1748716200-1748716200@paranegocios.com.br
SUMMARY:Rota Associativista 2025 - Breves
DESCRIPTION:Com o intuito de fomentar o associativismo no Pará\, a FACIAPA e seu CMEC\, em parceria com o SEBRAE/PA\, formularam em 2023 o projeto “Rota Associativista“\, que teve em sua programação visitas às Regiões de Caeté\, Guamá\, Baixo Amazona\, Tapajós\, Xingu e Carajás I e ll. \nEste ano darão continuidade ao projeto e sua próxima visita será à região do Araguaia\, com sede em REDENAÇÃO. \nO Rota Associativista tem o objetivo de fazer encontros em regiões estratégicas\, onde há agencias do SEBRAE\, com o intuito de congregar municípios vizinhos\, que tenham ou não ACEs instaladas. \nA próxima visita será na Regional de Marajó I\, sede Breves. \nPara mais informações\, visite o instagram @faciapa \n 
URL:https://paranegocios.com.br/agenda/rota-associativista-2025-breves/
LOCATION:UNOPAR POLO BREVES\, Rua Antônio fulgêncio\, 2532\, Breves\, Pará\, Brazil
ATTACH;FMTTYPE=image/jpeg:https://paranegocios.com.br/wp-content/uploads/2025/05/Screenshot_20250522_135919_Instagram.jpg
END:VEVENT
BEGIN:VEVENT
DTSTART;TZID=UTC:20250531T090000
DTEND;TZID=UTC:20250531T090000
DTSTAMP:20260421T171431
CREATED:20250522T181303Z
LAST-MODIFIED:20250522T181840Z
UID:3247-1748682000-1748682000@paranegocios.com.br
SUMMARY:2° Edição do GolfDay
DESCRIPTION:⛳ Prepare-se!\nO evento mais aguardado está chegando: a 2 edição do Golfday! \nUma oportunidade única para networking de alto nível\, geração de grandes negócios e imersão no universo do golfe\, um esporte em plena ascensão global. \nMarque na agenda: 31 de maio\, a partir das 9h. No Amazon Country Club. \nA segunda edição do GolfDay é uma experiência única criada pela Capital – Comunidade Corporativa\, com realização do Amazon Country Club e Matapi Hub Marketing. \nO objetivo é oferecer um ambiente inspirador para networking de alto nível e uma imersão no universo do golfe — um dos esportes mais sofisticados e que mais cresce no mundo. \nPara você: \n– Aulas com instrutores qualificados \n– Oportunidades com empresas patrocinadoras \n– Conexões estratégicas para grandes negócios \nHappy Hour e degustações  \n  \nIMPORTANTE  \n⚠️ As vagas são super limitadas! \nConfirme sua presença o quanto antes. \n  \nPara mais detalhes: (91) 98079-0220 \nIdealização: @capital.rede \nRealização: @amazon_countryclub e @matapimkt
URL:https://paranegocios.com.br/agenda/2-edicao-do-golfday/
LOCATION:Amazon Country Club\, Passagem Q.ta Linha\, s/n - Tenoné\, Belém - PA\, Belém\, Pará\, Brazil
CATEGORIES:Calendário
ATTACH;FMTTYPE=image/jpeg:https://paranegocios.com.br/wp-content/uploads/2025/05/Screenshot_20250522_145042_Instagram.jpg
END:VEVENT
BEGIN:VEVENT
DTSTART;TZID=UTC:20250527T193000
DTEND;TZID=UTC:20250527T193000
DTSTAMP:20260421T171431
CREATED:20250527T190119Z
LAST-MODIFIED:20250527T190119Z
UID:3308-1748374200-1748374200@paranegocios.com.br
SUMMARY:Feirão do Imposto 2025
DESCRIPTION:Belém recebe abertura do Feirão do Imposto 2025 nesta terça-feira com evento em shopping de Belém \n  \nO Conselho de Jovens Empresários (Conjove)\, da Associação Comercial do Pará\, promove nesta terça-feira\, 27 de maio\, o coquetel de abertura oficial do Feirão do Imposto 2025\, uma das maiores campanhas de conscientização tributária do Brasil. O evento será realizado às 19h30\, no Lounge do P3\, no Shopping Boulevard. \nCom o tema “Siglas + Impostos? No final a conta é sua”\, o Feirão propõe um diálogo direto com a sociedade sobre o peso dos impostos no cotidiano dos brasileiros\, além de incentivar o debate sobre a transparência na arrecadação e aplicação dos tributos. \nA cerimônia de abertura reunirá empresários\, autoridades\, representantes de instituições parceiras e lideranças jovens em um momento de integração e engajamento. \nSobre o Feirão do Imposto \nIdealizado pela Confederação Nacional de Jovens Empresários (CONAJE) e executado por conselhos estaduais como o Conjove Pará\, o Feirão do Imposto visa informar a população sobre os tributos embutidos em produtos e serviços\, promovendo cidadania fiscal e reflexão sobre a gestão pública. \nSiga: feiraodoimpostopa \n\nServiço: \n\nCoquetel de Abertura – Feirão do Imposto 2025 \nData: 27 de maio (terça-feira) \nHorário: 19h30 \nLocal: Shopping Boulevard – Lounge do P3
URL:https://paranegocios.com.br/agenda/feirao-do-imposto-2025/
LOCATION:Shopping Boulevard – Lounge do P3\, Av. Visc. de Souza Franco\, 776 - Reduto\, Belém\, Pará\, 66053-000\, Brazil
ATTACH;FMTTYPE=image/jpeg:https://paranegocios.com.br/wp-content/uploads/2025/05/a1178e47b1aa44a05367597e1956c87a.jpeg
END:VEVENT
BEGIN:VEVENT
DTSTART;TZID=UTC:20250527T070000
DTEND;TZID=UTC:20250527T190000
DTSTAMP:20260421T171431
CREATED:20250522T174443Z
LAST-MODIFIED:20250522T174443Z
UID:3237-1748329200-1748372400@paranegocios.com.br
SUMMARY:BNI - Encontro de Networking
DESCRIPTION:Na próxima terça-feira\, 27 de maio\, às 7h\, acontece um encontro presencial do BNI Pará — o maior grupo de networking estratégico do Brasil\, que traz para a região a rede de negócios mais bem-sucedida do mundo. \nA proposta do evento é apresentar como funciona essa metodologia que já conecta empresários e profissionais em mais de 70 países\, gerando oportunidades\, parcerias e crescimento consistente. \nAs vagas são limitadas\, e essa é uma chance para quem busca fazer parte de um grupo que promete revolucionar a forma de fazer negócios na Região Norte. \nSeja pontual\, o networking começa junto com o café da manhã! – ⁠O investimento é de R$40 com café da manhã inclusive. – ⁠O Espaço Ponto fica ao lado da Casa Mia e possui estacionamento para 5 carros. \nQuer fazer sua inscrição agora? O investimento é de R$40\, com café da manhã incluso. Para mais informações de contato pode falar diretamente com o time comercial do BNI no (91) 98567-8622 \nAcompanhe nas redes sociais: @bni_para
URL:https://paranegocios.com.br/agenda/bni-encontro-de-networking/
LOCATION:Espaço Ponto\, Belém\, Pará\, Brazil
ATTACH;FMTTYPE=image/jpeg:https://paranegocios.com.br/wp-content/uploads/2025/05/c5caa0aca5b646f89fbe850d07ef80c0.jpeg
ORGANIZER;CN="BNI":MAILTO:bnibelem@gmail.com
END:VEVENT
BEGIN:VEVENT
DTSTART;TZID=UTC:20250523T100000
DTEND;TZID=UTC:20250523T100000
DTSTAMP:20260421T171431
CREATED:20250514T201700Z
LAST-MODIFIED:20250518T235009Z
UID:3151-1747994400-1747994400@paranegocios.com.br
SUMMARY:Apresentação do Programa Mulheres Inovadoras – Edição 2025
DESCRIPTION:Startups lideradas por mulheres\, atenção!\nVem aí a Apresentação do Programa Mulheres Inovadoras – Edição 2025! \nAceleração + premiação para startups com liderança feminina!\nSebrae PA – R. Municipalidade\, 1461\, Umarizal – Belém\nDia 23 de maio\n⏰ Às 10h \nParceria Finep\, Sebrae\, Invest Amazônia\, Açaí Valley e Inovafapto! \nConheça como sua startup pode receber até R$ 100 mil em premiação\, mentorias e apoio técnico. \nConfirme sua presença e venha transformar sua ideia em potência! ✨\nInscreva-se aqui
URL:https://paranegocios.com.br/agenda/apresentacao-do-programa-mulheres-inovadoras-edicao-2025/
LOCATION:Sebrae Pará\, R. Municipalidade\, 1461\, Belém\, Pará\, 66050-350\, Brazil
CATEGORIES:Calendário
ATTACH;FMTTYPE=image/jpeg:https://paranegocios.com.br/wp-content/uploads/2025/05/IMG-20250514-WA0176.jpg
END:VEVENT
BEGIN:VEVENT
DTSTART;TZID=UTC:20250520T183000
DTEND;TZID=UTC:20250520T183000
DTSTAMP:20260421T171431
CREATED:20250521T013357Z
LAST-MODIFIED:20250521T013708Z
UID:3207-1747765800-1747765800@paranegocios.com.br
SUMMARY:Palestra: Privacidade\, Gestão de Documentos e Fim do Retrabalho
DESCRIPTION:Objetivo: \n– Seus arquivos importantes estão espalhados em e-mails\, HDs externos e srviços de nuvem de terceiros? \n– Você tem dificuldades para encontrar rapidamente documentos compartilhados com diferentes pessoas da equipe? \n– Como sua empresa lida com a colaboração em tempo real em documentos? \n– Você já perdeu informações importantes por depender de pendrives ou compartilhamentos informais? \n– Quantas ferramentas diferentes sua equipe precisa usar para reuniões\, chat e compartilhamento de tela? \n– Você gostaria de reunir comunicação por chat\, videochamada e compartilhamento de arquivos em uma única plataforma? \n– Sua equipe tem dificuldade em visualizar o andamento das tarefas e responsabilidades de cada um? \n  \nSe respondeu SIM a alguma dessas perguntas\, convidamos você a explorar soluções que promovem colaboração eficiente\, garantem a privacidade\, facilitam a gestão de documentos e eliminam o retrabalho entre equipes. \n Participe da Mentoria: \nPRIVACIDADE\, GESTÃO DE DOCUMENTOS E FIM DO RETRABALHO.\nInscreva-se aqui
URL:https://paranegocios.com.br/agenda/palestra-privacidade-gestao-de-documentos-e-fim-do-retrabalho/
LOCATION:ACP\, Av. Presidente Vargas\, 158\, Belém\, Pará\, 66010-000
ATTACH;FMTTYPE=image/jpeg:https://paranegocios.com.br/wp-content/uploads/2025/05/IMG-20250520-WA0114.jpg
END:VEVENT
BEGIN:VEVENT
DTSTART;TZID=UTC:20250517T090000
DTEND;TZID=UTC:20250517T200000
DTSTAMP:20260421T171431
CREATED:20250513T134046Z
LAST-MODIFIED:20250513T140257Z
UID:3132-1747472400-1747512000@paranegocios.com.br
SUMMARY:Ladies Power Empreendedoras
DESCRIPTION:Belém do Pará recebe evento exclusivo voltado para a mulher empreendedora\n  \nA capital paraense será palco de um evento inédito e totalmente dedicado ao universo feminino: o Ladies Power Empreendedoras\, que acontecerá no dia 17 de maio\, das 9h às 20h\, no IETAAM Mundurucus. Com entrada gratuita\, a programação promete reunir centenas de mulheres em busca de conhecimento\, networking e oportunidades de negócios. \nCom o tema “O Poder da Beleza Feminina”\, a iniciativa vai muito além da estética: é um verdadeiro espaço de valorização da mulher empreendedora. A feira contará com estandes de produtos e serviços premium de beleza\, além de uma intensa agenda de workshops\, abordando técnicas de maquiagem\, estética capilar\, cuidados pessoais e também orientações práticas sobre empreendedorismo. \nUm dos grandes destaques do evento será a rodada de palestras com mulheres de sucesso\, que compartilharão suas experiências e trajetórias inspiradoras no mundo dos negócios. O evento também contará com expositores voltados para a sustentabilidade e a bioeconomia do Pará\, alinhando o empreendedorismo feminino com temas globais e regionais\, como parte da preparação para a COP30. \nA realização é do Instituto Acelera Amazônia\, com apoio do mandato do vereador Augusto Santos\, do IETAAM\, da Associação Profissional de Estética do Pará (APEP)\, da Associação Comercial do Pará (ACP)\, do Banpará\, do Basa\, da CDL\, do SEBRAE\, entre outros parceiros que acreditam no protagonismo feminino. \nA expectativa é de um grande público\, formado por mulheres de diferentes áreas\, especialmente da beleza\, moda\, bem-estar e inovação. Um ambiente acolhedor\, empoderador e cheio de possibilidades para quem quer crescer\, aprender e se conectar. \nMarque na agenda e participe! Belém terá um dia inteiro só para ela: a mulher empreendedora.\nInstagram: feiradopequenoempreendedor\nEscrito por Kenneth Kleberson.
URL:https://paranegocios.com.br/agenda/ladies-power-empreendedoras/
LOCATION:IETAAM Mundurucus\, Rua dos Mundurucus\, 4010\, Belém\, Pará\, 66063-495\, Brazil
ATTACH;FMTTYPE=image/png:https://paranegocios.com.br/wp-content/uploads/2025/05/Sem-titulo-7.png
ORGANIZER;CN="Instituto Acelera Amaz%C3%B4nia":MAILTO:contato@aceleraamazonia.org
END:VEVENT
BEGIN:VEVENT
DTSTART;TZID=UTC:20250411T080000
DTEND;TZID=UTC:20250411T170000
DTSTAMP:20260421T171431
CREATED:20250407T193147Z
LAST-MODIFIED:20250407T193147Z
UID:2975-1744358400-1744390800@paranegocios.com.br
SUMMARY:Visita Empresarial - Marmobraz e Grupo Roma
DESCRIPTION:Prepare-se para uma experiência única de aprendizado e networking!  \nNo dia 11 de abril\, o Conjove te convida para uma visita empresarial especial com um roteiro incrível: \n Ponto de Encontro: 8h00 – Posto Dallas (Trav. Antônio Baena\, Av. João Paulo II\, 882 – Marco\, Belém – PA \nVagas limitadas! Não perca a chance de expandir seus conhecimentos e fortalecer suas conexões empresariais! ✨
URL:https://paranegocios.com.br/agenda/visita-empresarial-marmobraz-e-grupo-roma/
LOCATION:Posto Dallas (ponto de encontro)\, Ponto de Encontro: 8h00 – Posto Dallas (Trav. Antônio Baena\, Av. João Paulo II\, 882\, Belém\, Pará\, 66033-372\, Brazil
ATTACH;FMTTYPE=image/jpeg:https://paranegocios.com.br/wp-content/uploads/2025/04/Imagem-do-WhatsApp-de-2025-04-07-as-15.59.17_d2e1d6b6.jpg
END:VEVENT
BEGIN:VEVENT
DTSTART;TZID=UTC:20250408T120000
DTEND;TZID=UTC:20250408T140000
DTSTAMP:20260421T171431
CREATED:20250407T192704Z
LAST-MODIFIED:20250407T192704Z
UID:2971-1744113600-1744120800@paranegocios.com.br
SUMMARY:Almoço de Negócios Conjove com Vânia Trindade e Margarete Braga.
DESCRIPTION:No próximo Almoço de Negócios\, receberemos Vânia Trindade\, especialista em finanças\, e Margarete Braga\, presidente do Sincor. \nElas falarão sobre “Seu dinheiro\, suas regras: O poder de decidir o seu próprio caminho” e ajudarão você a controlar sua saúde financeira e garantir um futuro mais seguro.
URL:https://paranegocios.com.br/agenda/almoco-de-negocios-conjove-08-04/
LOCATION:The Wine\, Av. Alcindo Cacela\, 1848\, Belém\, Pará\, 66040-020\, Brazil
ATTACH;FMTTYPE=image/jpeg:https://paranegocios.com.br/wp-content/uploads/2025/04/Imagem-do-WhatsApp-de-2025-04-07-as-15.59.17_f27365db.jpg
END:VEVENT
END:VCALENDAR